{"text_format":"1","workbook":"xlsx","n_sheets":7,"sheets":["Overview","Results1","Results2","Results3","Results4","Baseline","Computed Results"],"not_rendered":{"charts":0,"images":0,"macros":1,"external_links":0,"defined_names":0,"comments":0,"pivot_tables":0},"unopened":[],"bounds":{"document_bytes":16777216,"sheet_cells":100000,"rows_first":2000,"rows_last":500,"rows_between":2000,"halvings":0,"cell_chars":16384,"cell_head_chars":4096},"cells_cut":0,"cells_raw":0,"read":"whole","date_system":"1900"}

{"sheet":"Overview","index":0,"n_rows":26,"n_cols":9,"rows_kept":26,"cut":false,"hidden":false,"merged":[[27,0,27,1],[27,2,27,3],[3,0,3,13],[5,1,5,5],[6,1,6,5],[7,1,7,5]]}
[]
[]
[]
["SPECapc 3DSMax 2011 Benchmark Results"]
[]
["Graphics:",{"$f":"Results1!H2","v":" "}]
["Resolution:",{"$f":"Results1!H3","v":" "}]
["Date:",{"$f":"Results1!H4","v":" "}]
[]
["SubTest",null,"Score"]
[null,null,null,null,null,null,null,null,"CPU Composite Score"]
["Large Model CPU",null,{"$f":"'Computed Results'!W26","v":0}]
[null,null,null,null,null,null,null,null,{"$f":"GEOMEAN(C20,C22)","v":{"$error":"#NUM!"}}]
["LargeModel GPU",null,{"$f":"'Computed Results'!W27","v":0}]
[]
["Interactive Graphics",null,{"$f":"'Computed Results'!W22","v":{"$error":"#NUM!"}},null,null,null,null,null,"GPU Composite Score"]
[]
["Modeling",null,{"$f":"'Computed Results'!W42","v":{"$error":"#NUM!"}},null,null,null,null,null,{"$f":"GEOMEAN(C16,C18,C24,C26)","v":{"$error":"#NUM!"}}]
[]
["CPU Computing",null,{"$f":"'Computed Results'!W45","v":{"$error":"#NUM!"}}]
[null,null,null,null,null,null,null,null,"Large Model Composite"]
["CPU Rendering",null,{"$f":"'Computed Results'!W60","v":{"$error":"#NUM!"}}]
[null,null,null,null,null,null,null,null,{"$f":"GEOMEAN(C12,C14)","v":{"$error":"#NUM!"}}]
["GPU Rendering",null,{"$f":"'Computed Results'!W54","v":{"$error":"#NUM!"}}]
[]
["GPU Shaders",null,{"$f":"'Computed Results'!W25","v":{"$error":"#NUM!"}}]

{"sheet":"Results1","index":1,"n_rows":59,"n_cols":8,"rows_kept":59,"cut":false,"hidden":false,"merged":[]}
["ID","Name","TestType","Time","Weighting"]
["Test0541","Architecture Wireframe","Interactive Graphics",0,1,null,"Graphics"," "]
["Test0220","Sphere Array - Wireframe","Interactive Graphics",0,1,null,"Resolution"," "]
["Test0320","Xray Objects - Sphere Array","Interactive Graphics",0,1,null,"Date"," "]
["Test0410","Brutal Flower - Multiple Object Stress","Interactive Graphics",0,1]
["Test0040","Building Flyby","Interactive Graphics",0,1]
["Test2040","FishFlock Smooth","Interactive Graphics",0,1]
["Test0400","Max Hardware Light Test","Interactive Graphics",0,1]
["Test0622","HugeFish Smooth","Interactive Graphics",0,1]
["Test0625","HugeFish Rotate","Interactive Graphics",0,1]
["Test0340","IK Group","Interactive Graphics",0,1]
["Test0323","Opacity Performance - Blended","Interactive Graphics",0,1]
["Test0390","Particle Tests","Interactive Graphics",0,1]
["Test0531","UnderWater Animation","Interactive Graphics",0,1]
["Test0140","Moving Blended Lights","Interactive Graphics",0,1]
["Test0600","SpaceFlyby Wireframe","Interactive Graphics",0,1]
["Test0601","SpaceFlyby Smooth with Edges","Interactive Graphics",0,1]
["Test0602","SpaceFlyby Smooth","Interactive Graphics",0,1]
["Test1510","SpiderWalk - Playback","Interactive Graphics",0,1]
["Test0561","Train Wireframe","Interactive Graphics",0,1]
["Test0562","Train Smooth with Edges","Interactive Graphics",0,1]
["Test2050","Brutal Flower - DX Shaders","GPU Shaders",0,1]
["Test2010","MeshSmooth-Polygon Spaceship","GPU Shaders",0,1]
["Test2020","Effects Gallery","GPU Shaders",0,1]
["Test0020","Building City","Large Model CPU",0,1]
["Test0030","Moving City","Large Model GPU",0,1]
["Test2000","Rotate Polygon Spaceship","Modeling",0,1]
["Test0050","Changing Color Test","Modeling",0,1]
["Test0070","SubObject Vertices","Modeling",0,1]
["Test0080","SubObject Edges","Modeling",0,1]
["Test0090","SubObject Faces","Modeling",0,1]
["Test0100","Extrude Faces","Modeling",0,1]
["Test0110","Bevel Faces","Modeling",0,1]
["Test0041","Gizmo Transforms - Move","Modeling",0,1]
["Test0042","Gizmo Transforms - Rotate","Modeling",0,1]
["Test0043","Gizmo Transforms - Scale","Modeling",0,1]
["Test0370","Create Tank Scene","Modeling",0,1]
["Test0171","Modify Objects - Short","Modeling",0,1]
["Test0210","Softbody Objects - Flag","Modeling",0,1]
["Test0121","Vertex Soft-Selection","Modeling",0,1]
["Test0130","Multi-SubObject Texturing","Modeling",0,1]
["Test0125","Create Textures","CPU Computing",0,1]
["Test1000","Radiosity","CPU Computing",0,1]
["Test1500","SpiderWalk - Create Walk Cycle","CPU Computing",0,1]
["Test1070","Quicksilver-Green Apples Basic","GPU Rendering",0,1]
["Test1075","Quicksilver-Green Apples Advanced","GPU Rendering",0,1]
["Test1080","Quicksilver - Train Engine Sequence","GPU Rendering",0,1]
["Test1081","Quicksilver - Train Engine","GPU Rendering",0,1]
["Test1090","Quicksilver - Army Camp","GPU Rendering",0,1]
["Test1100","Quicksilver - Chess Baisc","GPU Rendering",0,1]
["Test1105","Quicksilver - Chess Advanced","GPU Rendering",0,1]
["Test1110","Quicksilver - Chess Short","GPU Rendering",0,1]
["Test1120","Quicksilver - Chess DOF","GPU Rendering",0,1]
["Test1520","SpiderWalk - Quicksilver Render","GPU Rendering",0,1]
["Test1085","Mental Ray - Train Engine","CPU Rendering",0,1]
["Test1095","Mental Ray - Army Camp","CPU Rendering",0,1]
["Test1115","Mental Ray - Chess Short","CPU Rendering",0,1]
["Test1040","UnderWater","CPU Rendering",0,1]
["Test1060","UnderwaterEscape","CPU Rendering",0,1]

{"sheet":"Results2","index":2,"n_rows":59,"n_cols":8,"rows_kept":59,"cut":false,"hidden":false,"merged":[]}
["ID","Name","TestType","Time","Weighting"]
["Test0541","Architecture Wireframe","Interactive Graphics",0,1,null,"Graphics"," "]
["Test0220","Sphere Array - Wireframe","Interactive Graphics",0,1,null,"Resolution"," "]
["Test0320","Xray Objects - Sphere Array","Interactive Graphics",0,1,null,"Date"," "]
["Test0410","Brutal Flower - Multiple Object Stress","Interactive Graphics",0,1]
["Test0040","Building Flyby","Interactive Graphics",0,1]
["Test2040","FishFlock Smooth","Interactive Graphics",0,1]
["Test0400","Max Hardware Light Test","Interactive Graphics",0,1]
["Test0622","HugeFish Smooth","Interactive Graphics",0,1]
["Test0625","HugeFish Rotate","Interactive Graphics",0,1]
["Test0340","IK Group","Interactive Graphics",0,1]
["Test0323","Opacity Performance - Blended","Interactive Graphics",0,1]
["Test0390","Particle Tests","Interactive Graphics",0,1]
["Test0531","UnderWater Animation","Interactive Graphics",0,1]
["Test0140","Moving Blended Lights","Interactive Graphics",0,1]
["Test0600","SpaceFlyby Wireframe","Interactive Graphics",0,1]
["Test0601","SpaceFlyby Smooth with Edges","Interactive Graphics",0,1]
["Test0602","SpaceFlyby Smooth","Interactive Graphics",0,1]
["Test1510","SpiderWalk - Playback","Interactive Graphics",0,1]
["Test0561","Train Wireframe","Interactive Graphics",0,1]
["Test0562","Train Smooth with Edges","Interactive Graphics",0,1]
["Test2050","Brutal Flower - DX Shaders","GPU Shaders",0,1]
["Test2010","MeshSmooth-Polygon Spaceship","GPU Shaders",0,1]
["Test2020","Effects Gallery","GPU Shaders",0,1]
["Test0020","Building City","Large Model CPU",0,1]
["Test0030","Moving City","Large Model GPU",0,1]
["Test2000","Rotate Polygon Spaceship","Modeling",0,1]
["Test0050","Changing Color Test","Modeling",0,1]
["Test0070","SubObject Vertices","Modeling",0,1]
["Test0080","SubObject Edges","Modeling",0,1]
["Test0090","SubObject Faces","Modeling",0,1]
["Test0100","Extrude Faces","Modeling",0,1]
["Test0110","Bevel Faces","Modeling",0,1]
["Test0041","Gizmo Transforms - Move","Modeling",0,1]
["Test0042","Gizmo Transforms - Rotate","Modeling",0,1]
["Test0043","Gizmo Transforms - Scale","Modeling",0,1]
["Test0370","Create Tank Scene","Modeling",0,1]
["Test0171","Modify Objects - Short","Modeling",0,1]
["Test0210","Softbody Objects - Flag","Modeling",0,1]
["Test0121","Vertex Soft-Selection","Modeling",0,1]
["Test0130","Multi-SubObject Texturing","Modeling",0,1]
["Test0125","Create Textures","CPU Computing",0,1]
["Test1000","Radiosity","CPU Computing",0,1]
["Test1500","SpiderWalk - Create Walk Cycle","CPU Computing",0,1]
["Test1070","Quicksilver-Green Apples Basic","GPU Rendering",0,1]
["Test1075","Quicksilver-Green Apples Advanced","GPU Rendering",0,1]
["Test1080","Quicksilver - Train Engine Sequence","GPU Rendering",0,1]
["Test1081","Quicksilver - Train Engine","GPU Rendering",0,1]
["Test1090","Quicksilver - Army Camp","GPU Rendering",0,1]
["Test1100","Quicksilver - Chess Baisc","GPU Rendering",0,1]
["Test1105","Quicksilver - Chess Advanced","GPU Rendering",0,1]
["Test1110","Quicksilver - Chess Short","GPU Rendering",0,1]
["Test1120","Quicksilver - Chess DOF","GPU Rendering",0,1]
["Test1520","SpiderWalk - Quicksilver Render","GPU Rendering",0,1]
["Test1085","Mental Ray - Train Engine","CPU Rendering",0,1]
["Test1095","Mental Ray - Army Camp","CPU Rendering",0,1]
["Test1115","Mental Ray - Chess Short","CPU Rendering",0,1]
["Test1040","UnderWater","CPU Rendering",0,1]
["Test1060","UnderwaterEscape","CPU Rendering",0,1]

{"sheet":"Results3","index":3,"n_rows":59,"n_cols":8,"rows_kept":59,"cut":false,"hidden":false,"merged":[]}
["ID","Name","TestType","Time","Weighting"]
["Test0541","Architecture Wireframe","Interactive Graphics",0,1,null,"Graphics"," "]
["Test0220","Sphere Array - Wireframe","Interactive Graphics",0,1,null,"Resolution"," "]
["Test0320","Xray Objects - Sphere Array","Interactive Graphics",0,1,null,"Date"," "]
["Test0410","Brutal Flower - Multiple Object Stress","Interactive Graphics",0,1]
["Test0040","Building Flyby","Interactive Graphics",0,1]
["Test2040","FishFlock Smooth","Interactive Graphics",0,1]
["Test0400","Max Hardware Light Test","Interactive Graphics",0,1]
["Test0622","HugeFish Smooth","Interactive Graphics",0,1]
["Test0625","HugeFish Rotate","Interactive Graphics",0,1]
["Test0340","IK Group","Interactive Graphics",0,1]
["Test0323","Opacity Performance - Blended","Interactive Graphics",0,1]
["Test0390","Particle Tests","Interactive Graphics",0,1]
["Test0531","UnderWater Animation","Interactive Graphics",0,1]
["Test0140","Moving Blended Lights","Interactive Graphics",0,1]
["Test0600","SpaceFlyby Wireframe","Interactive Graphics",0,1]
["Test0601","SpaceFlyby Smooth with Edges","Interactive Graphics",0,1]
["Test0602","SpaceFlyby Smooth","Interactive Graphics",0,1]
["Test1510","SpiderWalk - Playback","Interactive Graphics",0,1]
["Test0561","Train Wireframe","Interactive Graphics",0,1]
["Test0562","Train Smooth with Edges","Interactive Graphics",0,1]
["Test2050","Brutal Flower - DX Shaders","GPU Shaders",0,1]
["Test2010","MeshSmooth-Polygon Spaceship","GPU Shaders",0,1]
["Test2020","Effects Gallery","GPU Shaders",0,1]
["Test0020","Building City","Large Model CPU",0,1]
["Test0030","Moving City","Large Model GPU",0,1]
["Test2000","Rotate Polygon Spaceship","Modeling",0,1]
["Test0050","Changing Color Test","Modeling",0,1]
["Test0070","SubObject Vertices","Modeling",0,1]
["Test0080","SubObject Edges","Modeling",0,1]
["Test0090","SubObject Faces","Modeling",0,1]
["Test0100","Extrude Faces","Modeling",0,1]
["Test0110","Bevel Faces","Modeling",0,1]
["Test0041","Gizmo Transforms - Move","Modeling",0,1]
["Test0042","Gizmo Transforms - Rotate","Modeling",0,1]
["Test0043","Gizmo Transforms - Scale","Modeling",0,1]
["Test0370","Create Tank Scene","Modeling",0,1]
["Test0171","Modify Objects - Short","Modeling",0,1]
["Test0210","Softbody Objects - Flag","Modeling",0,1]
["Test0121","Vertex Soft-Selection","Modeling",0,1]
["Test0130","Multi-SubObject Texturing","Modeling",0,1]
["Test0125","Create Textures","CPU Computing",0,1]
["Test1000","Radiosity","CPU Computing",0,1]
["Test1500","SpiderWalk - Create Walk Cycle","CPU Computing",0,1]
["Test1070","Quicksilver-Green Apples Basic","GPU Rendering",0,1]
["Test1075","Quicksilver-Green Apples Advanced","GPU Rendering",0,1]
["Test1080","Quicksilver - Train Engine Sequence","GPU Rendering",0,1]
["Test1081","Quicksilver - Train Engine","GPU Rendering",0,1]
["Test1090","Quicksilver - Army Camp","GPU Rendering",0,1]
["Test1100","Quicksilver - Chess Baisc","GPU Rendering",0,1]
["Test1105","Quicksilver - Chess Advanced","GPU Rendering",0,1]
["Test1110","Quicksilver - Chess Short","GPU Rendering",0,1]
["Test1120","Quicksilver - Chess DOF","GPU Rendering",0,1]
["Test1520","SpiderWalk - Quicksilver Render","GPU Rendering",0,1]
["Test1085","Mental Ray - Train Engine","CPU Rendering",0,1]
["Test1095","Mental Ray - Army Camp","CPU Rendering",0,1]
["Test1115","Mental Ray - Chess Short","CPU Rendering",0,1]
["Test1040","UnderWater","CPU Rendering",0,1]
["Test1060","UnderwaterEscape","CPU Rendering",0,1]

{"sheet":"Results4","index":4,"n_rows":59,"n_cols":8,"rows_kept":59,"cut":false,"hidden":false,"merged":[]}
["ID","Name","TestType","Time","Weighting"]
["Test0541","Architecture Wireframe","Interactive Graphics",0,1,null,"Graphics"," "]
["Test0220","Sphere Array - Wireframe","Interactive Graphics",0,1,null,"Resolution"," "]
["Test0320","Xray Objects - Sphere Array","Interactive Graphics",0,1,null,"Date"," "]
["Test0410","Brutal Flower - Multiple Object Stress","Interactive Graphics",0,1]
["Test0040","Building Flyby","Interactive Graphics",0,1]
["Test2040","FishFlock Smooth","Interactive Graphics",0,1]
["Test0400","Max Hardware Light Test","Interactive Graphics",0,1]
["Test0622","HugeFish Smooth","Interactive Graphics",0,1]
["Test0625","HugeFish Rotate","Interactive Graphics",0,1]
["Test0340","IK Group","Interactive Graphics",0,1]
["Test0323","Opacity Performance - Blended","Interactive Graphics",0,1]
["Test0390","Particle Tests","Interactive Graphics",0,1]
["Test0531","UnderWater Animation","Interactive Graphics",0,1]
["Test0140","Moving Blended Lights","Interactive Graphics",0,1]
["Test0600","SpaceFlyby Wireframe","Interactive Graphics",0,1]
["Test0601","SpaceFlyby Smooth with Edges","Interactive Graphics",0,1]
["Test0602","SpaceFlyby Smooth","Interactive Graphics",0,1]
["Test1510","SpiderWalk - Playback","Interactive Graphics",0,1]
["Test0561","Train Wireframe","Interactive Graphics",0,1]
["Test0562","Train Smooth with Edges","Interactive Graphics",0,1]
["Test2050","Brutal Flower - DX Shaders","GPU Shaders",0,1]
["Test2010","MeshSmooth-Polygon Spaceship","GPU Shaders",0,1]
["Test2020","Effects Gallery","GPU Shaders",0,1]
["Test0020","Building City","Large Model CPU",0,1]
["Test0030","Moving City","Large Model GPU",0,1]
["Test2000","Rotate Polygon Spaceship","Modeling",0,1]
["Test0050","Changing Color Test","Modeling",0,1]
["Test0070","SubObject Vertices","Modeling",0,1]
["Test0080","SubObject Edges","Modeling",0,1]
["Test0090","SubObject Faces","Modeling",0,1]
["Test0100","Extrude Faces","Modeling",0,1]
["Test0110","Bevel Faces","Modeling",0,1]
["Test0041","Gizmo Transforms - Move","Modeling",0,1]
["Test0042","Gizmo Transforms - Rotate","Modeling",0,1]
["Test0043","Gizmo Transforms - Scale","Modeling",0,1]
["Test0370","Create Tank Scene","Modeling",0,1]
["Test0171","Modify Objects - Short","Modeling",0,1]
["Test0210","Softbody Objects - Flag","Modeling",0,1]
["Test0121","Vertex Soft-Selection","Modeling",0,1]
["Test0130","Multi-SubObject Texturing","Modeling",0,1]
["Test0125","Create Textures","CPU Computing",0,1]
["Test1000","Radiosity","CPU Computing",0,1]
["Test1500","SpiderWalk - Create Walk Cycle","CPU Computing",0,1]
["Test1070","Quicksilver-Green Apples Basic","GPU Rendering",0,1]
["Test1075","Quicksilver-Green Apples Advanced","GPU Rendering",0,1]
["Test1080","Quicksilver - Train Engine Sequence","GPU Rendering",0,1]
["Test1081","Quicksilver - Train Engine","GPU Rendering",0,1]
["Test1090","Quicksilver - Army Camp","GPU Rendering",0,1]
["Test1100","Quicksilver - Chess Baisc","GPU Rendering",0,1]
["Test1105","Quicksilver - Chess Advanced","GPU Rendering",0,1]
["Test1110","Quicksilver - Chess Short","GPU Rendering",0,1]
["Test1120","Quicksilver - Chess DOF","GPU Rendering",0,1]
["Test1520","SpiderWalk - Quicksilver Render","GPU Rendering",0,1]
["Test1085","Mental Ray - Train Engine","CPU Rendering",0,1]
["Test1095","Mental Ray - Army Camp","CPU Rendering",0,1]
["Test1115","Mental Ray - Chess Short","CPU Rendering",0,1]
["Test1040","UnderWater","CPU Rendering",0,1]
["Test1060","UnderwaterEscape","CPU Rendering",0,1]

{"sheet":"Baseline","index":5,"n_rows":59,"n_cols":9,"rows_kept":59,"cut":false,"hidden":false,"merged":[]}
["TestType","ID","Name","Run 1","Run 2","Run 3","Run 4","Weighting","Median 2,3,4"]
["Interactive Graphics","Test0541","Architecture Wireframe",33.293999999999997,34.216999999999999,34.496000000000002,34.457999999999998,1,{"$f":"MEDIAN(E2:G2)","v":34.457999999999998}]
["Interactive Graphics","Test0220","Sphere Array - Wireframe",47.392000000000003,48.12,48.737000000000002,49.098999999999997,1,{"$f":"MEDIAN(E3:G3)","v":48.737000000000002}]
["Interactive Graphics","Test0320","Xray Objects - Sphere Array",46.726999999999997,50.780999999999999,51.283999999999999,51.790999999999997,1,51.283999999999999]
["Interactive Graphics","Test0410","Brutal Flower - Multiple Object Stress",17.786000000000001,18.989000000000001,18.989999999999998,18.931999999999999,1,18.989000000000001]
["Interactive Graphics","Test0040","Building Flyby",105.572,111.42700000000001,113.375,114.34399999999999,1,113.375]
["Interactive Graphics","Test2040","FishFlock Smooth",31.753,29.295999999999999,31.34,30.75,1,30.75]
["Interactive Graphics","Test0400","Max Hardware Light Test",19.068999999999999,19.003,19.863,19.759,1,19.759]
["Interactive Graphics","Test0622","HugeFish Smooth",12.2,13.182,13.862,13.343,1,13.343]
["Interactive Graphics","Test0625","HugeFish Rotate",7.8849999999999998,8.2680000000000007,7.3479999999999999,7.6580000000000004,1,7.6580000000000004]
["Interactive Graphics","Test0340","IK Group",23.225999999999999,24.186,24.608000000000001,24.97,1,24.608000000000001]
["Interactive Graphics","Test0323","Opacity Performance - Blended",33.607999999999997,40.728000000000002,41.231999999999999,41.933,1,41.231999999999999]
["Interactive Graphics","Test0390","Particle Tests",107.172,115.114,115.634,116.86,1,115.634]
["Interactive Graphics","Test0531","UnderWater Animation",11.009,11.657,11.603999999999999,11.675000000000001,1,11.657]
["Interactive Graphics","Test0140","Moving Blended Lights",107.64700000000001,109.83199999999999,110.474,110.626,1,110.474]
["Interactive Graphics","Test0600","SpaceFlyby Wireframe",26.893999999999998,27.573,23.702999999999999,23.963000000000001,1,23.963000000000001]
["Interactive Graphics","Test0601","SpaceFlyby Smooth with Edges",31.908000000000001,32.362000000000002,32.234000000000002,32.636000000000003,1,32.362000000000002]
["Interactive Graphics","Test0602","SpaceFlyby Smooth",15.432,15.864000000000001,16.300999999999998,16.564,1,16.300999999999998]
["Interactive Graphics","Test1510","SpiderWalk - Playback",92.878,92.694999999999993,94.031999999999996,95.811000000000007,1,94.031999999999996]
["Interactive Graphics","Test0561","Train Wireframe",14.579000000000001,14.683,10.582000000000001,10.757,1,10.757]
["Interactive Graphics","Test0562","Train Smooth with Edges",15.249000000000001,15.824999999999999,15.295,15.41,1,15.41]
["GPU Shaders","Test2050","Brutal Flower - DX Shaders",114.179,202.131,116.068,119.523,1,119.523]
["GPU Shaders","Test2010","MeshSmooth-Polygon Spaceship",7.0060000000000002,7.1459999999999999,7.1260000000000003,8.1059999999999999,1,7.1459999999999999]
["GPU Shaders","Test2020","Effects Gallery",60.423999999999999,61.488999999999997,62.401000000000003,62.386000000000003,1,62.386000000000003]
["Large Model CPU","Test0020","Building City",271.89699999999999,294.815,309.91500000000002,315.03300000000002,1,309.91500000000002]
["Large Model GPU","Test0030","Moving City",894.53599999999994,728.19399999999996,667.21299999999997,614.08399999999995,1,667.21299999999997]
["Modeling","Test2000","Rotate Polygon Spaceship",6.9089999999999998,7.08,7.24,7.9960000000000004,1,7.24]
["Modeling","Test0050","Changing Color Test",12.215,12.609,12.481,12.712,1,12.609]
["Modeling","Test0070","SubObject Vertices",7.6829999999999998,8.1129999999999995,8.5939999999999994,8.641,1,8.5939999999999994]
["Modeling","Test0080","SubObject Edges",14.92,15.78,16.550999999999998,16.207999999999998,1,16.207999999999998]
["Modeling","Test0090","SubObject Faces",18.446000000000002,19.497,20.532,19.937000000000001,1,19.937000000000001]
["Modeling","Test0100","Extrude Faces",15.068,15.548,15.842000000000001,15.803000000000001,1,15.803000000000001]
["Modeling","Test0110","Bevel Faces",8.6950000000000003,9.0269999999999992,9.2620000000000005,9.234,1,9.234]
["Modeling","Test0041","Gizmo Transforms - Move",34.49,34.597000000000001,36.058999999999997,35.088999999999999,1,35.088999999999999]
["Modeling","Test0042","Gizmo Transforms - Rotate",43.493000000000002,43.478999999999999,44.621000000000002,44.01,1,44.01]
["Modeling","Test0043","Gizmo Transforms - Scale",45.722000000000001,46.095999999999997,47.957000000000001,46.289000000000001,1,46.289000000000001]
["Modeling","Test0370","Create Tank Scene",17.992000000000001,18.728999999999999,19.498000000000001,19.725999999999999,1,19.498000000000001]
["Modeling","Test0171","Modify Objects - Short",51.694000000000003,53.247,53.862000000000002,54.375999999999998,1,53.862000000000002]
["Modeling","Test0210","Softbody Objects - Flag",34.436999999999998,34.753,34.93,35.838000000000001,1,34.93]
["Modeling","Test0121","Vertex Soft-Selection",12.44,15.457000000000001,16.010999999999999,17.212,1,16.010999999999999]
["Modeling","Test0130","Multi-SubObject Texturing",26.117000000000001,26.581,26.831,28.048999999999999,1,26.831]
["CPU Computing","Test0125","Create Textures",24.689,25.244,25.727,27.849,1,25.727]
["CPU Computing","Test1000","Radiosity",6.9450000000000003,7.319,8.1959999999999997,7.2279999999999998,1,7.319]
["CPU Computing","Test1500","SpiderWalk - Create Walk Cycle",11.023999999999999,11.215,11.420999999999999,11.353999999999999,1,11.353999999999999]
["GPU Rendering","Test1070","Quicksilver-Green Apples Basic",4.3440000000000003,4.8630000000000004,4.4489999999999998,4.76,1,4.76]
["GPU Rendering","Test1075","Quicksilver-Green Apples Advanced",44.993000000000002,45.107999999999997,45.395000000000003,45.328000000000003,1,45.328000000000003]
["GPU Rendering","Test1080","Quicksilver - Train Engine Sequence",128.54599999999999,125.277,125.95,125.605,1,125.605]
["GPU Rendering","Test1081","Quicksilver - Train Engine",52.350999999999999,51.512,53.466999999999999,52.088000000000001,1,52.088000000000001]
["GPU Rendering","Test1090","Quicksilver - Army Camp",46.353000000000002,46.356999999999999,46.826000000000001,47.121000000000002,1,46.826000000000001]
["GPU Rendering","Test1100","Quicksilver - Chess Baisc",19.178999999999998,18.620999999999999,18.423999999999999,18.478000000000002,1,18.478000000000002]
["GPU Rendering","Test1105","Quicksilver - Chess Advanced",156.26400000000001,157.40899999999999,156.75,156.334,1,156.75]
["GPU Rendering","Test1110","Quicksilver - Chess Short",29.905000000000001,29.870999999999999,29.966999999999999,29.651,1,29.870999999999999]
["GPU Rendering","Test1120","Quicksilver - Chess DOF",156.84899999999999,157.803,155.71199999999999,155.46299999999999,1,155.71199999999999]
["GPU Rendering","Test1520","SpiderWalk - Quicksilver Render",74.159000000000006,75.301000000000002,75.069000000000003,76.900999999999996,1,75.301000000000002]
["CPU Rendering","Test1085","Mental Ray - Train Engine",108.937,116.107,120.58499999999999,114.339,1,116.107]
["CPU Rendering","Test1095","Mental Ray - Army Camp",77.247,78.486000000000004,78.182000000000002,78.566999999999993,1,78.486000000000004]
["CPU Rendering","Test1115","Mental Ray - Chess Short",29.231000000000002,30.286999999999999,31.206,30.95,1,30.95]
["CPU Rendering","Test1040","UnderWater",14.393000000000001,14.79,15.193,15.211,1,15.193]
["CPU Rendering","Test1060","UnderwaterEscape",14.118,13.855,13.894,14.007999999999999,1,13.894]

{"sheet":"Computed Results","index":6,"n_rows":60,"n_cols":24,"rows_kept":60,"cut":false,"hidden":false,"merged":[[0,2,0,4],[0,6,0,8],[0,10,0,12],[0,14,0,16]]}
[null,null,"Test Run 1",null,null,null,"Test Run 2",null,null,null,"Test Run 3",null,null,null,"Test Run 4"]
[null,null,"Score","Wt","Wt Result",null,"Score","Wt","Wt Result",null,"Score","Wt","Wt Result",null,"Score","Wt","Wt Result",null,"Median","Baseline","Normalized Score"]
[{"$f":"Results1!C2","v":"Interactive Graphics"},{"$f":"Results1!A2","v":"Test0541"},{"$f":"Results1!D2","v":0},{"$f":"Results1!E2","v":1},{"$f":"C3*D3","v":0},null,{"$f":"Results2!D2","v":0},{"$f":"Results2!E2","v":1},{"$f":"G3*H3","v":0},null,{"$f":"Results3!D2","v":0},{"$f":"Results3!E2","v":1},{"$f":"K3*L3","v":0},null,{"$f":"Results4!D2","v":0},1,{"$f":"O3*P3","v":0},null,{"$f":"MEDIAN(M3,I3,Q3)","v":0},{"$f":"Baseline!H2*Baseline!I2","v":34.457999999999998},{"$f":"IF($S3=0,0,($T3/$S3)*10)","v":0},null,{"$f":"MEDIAN(Q3,M3,I3,E3)","v":0}]
[{"$f":"Results1!C3","v":"Interactive Graphics"},{"$f":"Results1!A3","v":"Test0220"},{"$f":"Results1!D3","v":0},{"$f":"Results1!E3","v":1},{"$f":"C4*D4","v":0},null,{"$f":"Results2!D3","v":0},{"$f":"Results2!E3","v":1},{"$f":"G4*H4","v":0},null,{"$f":"Results3!D3","v":0},{"$f":"Results3!E3","v":1},{"$f":"K4*L4","v":0},null,{"$f":"Results4!D3","v":0},1,{"$f":"O4*P4","v":0},null,{"$f":"MEDIAN(M4,I4,Q4)","v":0},{"$f":"Baseline!H3*Baseline!I3","v":48.737000000000002},{"$f":"IF($S4=0,0,($T4/$S4)*10)","v":0}]
[{"$f":"Results1!C4","v":"Interactive Graphics"},{"$f":"Results1!A4","v":"Test0320"},{"$f":"Results1!D4","v":0},{"$f":"Results1!E4","v":1},0,null,{"$f":"Results2!D4","v":0},{"$f":"Results2!E4","v":1},0,null,{"$f":"Results3!D4","v":0},{"$f":"Results3!E4","v":1},0,null,{"$f":"Results4!D4","v":0},1,0,null,0,{"$f":"Baseline!H4*Baseline!I4","v":51.283999999999999},0]
[{"$f":"Results1!C5","v":"Interactive Graphics"},{"$f":"Results1!A5","v":"Test0410"},{"$f":"Results1!D5","v":0},{"$f":"Results1!E5","v":1},0,null,{"$f":"Results2!D5","v":0},{"$f":"Results2!E5","v":1},0,null,{"$f":"Results3!D5","v":0},{"$f":"Results3!E5","v":1},0,null,{"$f":"Results4!D5","v":0},1,0,null,0,{"$f":"Baseline!H5*Baseline!I5","v":18.989000000000001},0]
[{"$f":"Results1!C6","v":"Interactive Graphics"},{"$f":"Results1!A6","v":"Test0040"},{"$f":"Results1!D6","v":0},{"$f":"Results1!E6","v":1},0,null,{"$f":"Results2!D6","v":0},{"$f":"Results2!E6","v":1},0,null,{"$f":"Results3!D6","v":0},{"$f":"Results3!E6","v":1},0,null,{"$f":"Results4!D6","v":0},1,0,null,0,{"$f":"Baseline!H6*Baseline!I6","v":113.375},0]
[{"$f":"Results1!C7","v":"Interactive Graphics"},{"$f":"Results1!A7","v":"Test2040"},{"$f":"Results1!D7","v":0},{"$f":"Results1!E7","v":1},0,null,{"$f":"Results2!D7","v":0},{"$f":"Results2!E7","v":1},0,null,{"$f":"Results3!D7","v":0},{"$f":"Results3!E7","v":1},0,null,{"$f":"Results4!D7","v":0},1,0,null,0,{"$f":"Baseline!H7*Baseline!I7","v":30.75},0]
[{"$f":"Results1!C8","v":"Interactive Graphics"},{"$f":"Results1!A8","v":"Test0400"},{"$f":"Results1!D8","v":0},{"$f":"Results1!E8","v":1},0,null,{"$f":"Results2!D8","v":0},{"$f":"Results2!E8","v":1},0,null,{"$f":"Results3!D8","v":0},{"$f":"Results3!E8","v":1},0,null,{"$f":"Results4!D8","v":0},1,0,null,0,{"$f":"Baseline!H8*Baseline!I8","v":19.759},0]
[{"$f":"Results1!C9","v":"Interactive Graphics"},{"$f":"Results1!A9","v":"Test0622"},{"$f":"Results1!D9","v":0},{"$f":"Results1!E9","v":1},0,null,{"$f":"Results2!D9","v":0},{"$f":"Results2!E9","v":1},0,null,{"$f":"Results3!D9","v":0},{"$f":"Results3!E9","v":1},0,null,{"$f":"Results4!D9","v":0},1,0,null,0,{"$f":"Baseline!H9*Baseline!I9","v":13.343},0]
[{"$f":"Results1!C10","v":"Interactive Graphics"},{"$f":"Results1!A10","v":"Test0625"},{"$f":"Results1!D10","v":0},{"$f":"Results1!E10","v":1},0,null,{"$f":"Results2!D10","v":0},{"$f":"Results2!E10","v":1},0,null,{"$f":"Results3!D10","v":0},{"$f":"Results3!E10","v":1},0,null,{"$f":"Results4!D10","v":0},1,0,null,0,{"$f":"Baseline!H10*Baseline!I10","v":7.6580000000000004},0]
[{"$f":"Results1!C11","v":"Interactive Graphics"},{"$f":"Results1!A11","v":"Test0340"},{"$f":"Results1!D11","v":0},{"$f":"Results1!E11","v":1},0,null,{"$f":"Results2!D11","v":0},{"$f":"Results2!E11","v":1},0,null,{"$f":"Results3!D11","v":0},{"$f":"Results3!E11","v":1},0,null,{"$f":"Results4!D11","v":0},1,0,null,0,{"$f":"Baseline!H11*Baseline!I11","v":24.608000000000001},0]
[{"$f":"Results1!C12","v":"Interactive Graphics"},{"$f":"Results1!A12","v":"Test0323"},{"$f":"Results1!D12","v":0},{"$f":"Results1!E12","v":1},0,null,{"$f":"Results2!D12","v":0},{"$f":"Results2!E12","v":1},0,null,{"$f":"Results3!D12","v":0},{"$f":"Results3!E12","v":1},0,null,{"$f":"Results4!D12","v":0},1,0,null,0,{"$f":"Baseline!H12*Baseline!I12","v":41.231999999999999},0]
[{"$f":"Results1!C13","v":"Interactive Graphics"},{"$f":"Results1!A13","v":"Test0390"},{"$f":"Results1!D13","v":0},{"$f":"Results1!E13","v":1},0,null,{"$f":"Results2!D13","v":0},{"$f":"Results2!E13","v":1},0,null,{"$f":"Results3!D13","v":0},{"$f":"Results3!E13","v":1},0,null,{"$f":"Results4!D13","v":0},1,0,null,0,{"$f":"Baseline!H13*Baseline!I13","v":115.634},0]
[{"$f":"Results1!C14","v":"Interactive Graphics"},{"$f":"Results1!A14","v":"Test0531"},{"$f":"Results1!D14","v":0},{"$f":"Results1!E14","v":1},0,null,{"$f":"Results2!D14","v":0},{"$f":"Results2!E14","v":1},0,null,{"$f":"Results3!D14","v":0},{"$f":"Results3!E14","v":1},0,null,{"$f":"Results4!D14","v":0},1,0,null,0,{"$f":"Baseline!H14*Baseline!I14","v":11.657},0]
[{"$f":"Results1!C15","v":"Interactive Graphics"},{"$f":"Results1!A15","v":"Test0140"},{"$f":"Results1!D15","v":0},{"$f":"Results1!E15","v":1},0,null,{"$f":"Results2!D15","v":0},{"$f":"Results2!E15","v":1},0,null,{"$f":"Results3!D15","v":0},{"$f":"Results3!E15","v":1},0,null,{"$f":"Results4!D15","v":0},1,0,null,0,{"$f":"Baseline!H15*Baseline!I15","v":110.474},0]
[{"$f":"Results1!C16","v":"Interactive Graphics"},{"$f":"Results1!A16","v":"Test0600"},{"$f":"Results1!D16","v":0},{"$f":"Results1!E16","v":1},0,null,{"$f":"Results2!D16","v":0},{"$f":"Results2!E16","v":1},0,null,{"$f":"Results3!D16","v":0},{"$f":"Results3!E16","v":1},0,null,{"$f":"Results4!D16","v":0},1,0,null,0,{"$f":"Baseline!H16*Baseline!I16","v":23.963000000000001},0]
[{"$f":"Results1!C17","v":"Interactive Graphics"},{"$f":"Results1!A17","v":"Test0601"},{"$f":"Results1!D17","v":0},{"$f":"Results1!E17","v":1},0,null,{"$f":"Results2!D17","v":0},{"$f":"Results2!E17","v":1},0,null,{"$f":"Results3!D17","v":0},{"$f":"Results3!E17","v":1},0,null,{"$f":"Results4!D17","v":0},1,0,null,0,{"$f":"Baseline!H17*Baseline!I17","v":32.362000000000002},0]
[{"$f":"Results1!C18","v":"Interactive Graphics"},{"$f":"Results1!A18","v":"Test0602"},{"$f":"Results1!D18","v":0},{"$f":"Results1!E18","v":1},0,null,{"$f":"Results2!D18","v":0},{"$f":"Results2!E18","v":1},0,null,{"$f":"Results3!D18","v":0},{"$f":"Results3!E18","v":1},0,null,{"$f":"Results4!D18","v":0},1,0,null,0,{"$f":"Baseline!H18*Baseline!I18","v":16.300999999999998},0]
[{"$f":"Results1!C19","v":"Interactive Graphics"},{"$f":"Results1!A19","v":"Test1510"},{"$f":"Results1!D19","v":0},{"$f":"Results1!E19","v":1},0,null,{"$f":"Results2!D19","v":0},{"$f":"Results2!E19","v":1},0,null,{"$f":"Results3!D19","v":0},{"$f":"Results3!E19","v":1},0,null,{"$f":"Results4!D19","v":0},1,0,null,0,{"$f":"Baseline!H19*Baseline!I19","v":94.031999999999996},0]
[{"$f":"Results1!C20","v":"Interactive Graphics"},{"$f":"Results1!A20","v":"Test0561"},{"$f":"Results1!D20","v":0},{"$f":"Results1!E20","v":1},0,null,{"$f":"Results2!D20","v":0},{"$f":"Results2!E20","v":1},0,null,{"$f":"Results3!D20","v":0},{"$f":"Results3!E20","v":1},0,null,{"$f":"Results4!D20","v":0},1,0,null,0,{"$f":"Baseline!H20*Baseline!I20","v":10.757},0]
[{"$f":"Results1!C21","v":"Interactive Graphics"},{"$f":"Results1!A21","v":"Test0562"},{"$f":"Results1!D21","v":0},{"$f":"Results1!E21","v":1},0,null,{"$f":"Results2!D21","v":0},{"$f":"Results2!E21","v":1},0,null,{"$f":"Results3!D21","v":0},{"$f":"Results3!E21","v":1},0,null,{"$f":"Results4!D21","v":0},1,0,null,0,{"$f":"Baseline!H21*Baseline!I21","v":15.41},0,null,{"$f":"GEOMEAN(U3:U22)","v":{"$error":"#NUM!"}},"Interactive Graphics"]
[{"$f":"Results1!C22","v":"GPU Shaders"},{"$f":"Results1!A22","v":"Test2050"},{"$f":"Results1!D22","v":0},{"$f":"Results1!E22","v":1},0,null,{"$f":"Results2!D22","v":0},{"$f":"Results2!E22","v":1},0,null,{"$f":"Results3!D22","v":0},{"$f":"Results3!E22","v":1},0,null,{"$f":"Results4!D22","v":0},1,0,null,0,{"$f":"Baseline!H22*Baseline!I22","v":119.523},0]
[{"$f":"Results1!C23","v":"GPU Shaders"},{"$f":"Results1!A23","v":"Test2010"},{"$f":"Results1!D23","v":0},{"$f":"Results1!E23","v":1},0,null,{"$f":"Results2!D23","v":0},{"$f":"Results2!E23","v":1},0,null,{"$f":"Results3!D23","v":0},{"$f":"Results3!E23","v":1},0,null,{"$f":"Results4!D23","v":0},1,0,null,0,{"$f":"Baseline!H23*Baseline!I23","v":7.1459999999999999},0]
[{"$f":"Results1!C24","v":"GPU Shaders"},{"$f":"Results1!A24","v":"Test2020"},{"$f":"Results1!D24","v":0},{"$f":"Results1!E24","v":1},0,null,{"$f":"Results2!D24","v":0},{"$f":"Results2!E24","v":1},0,null,{"$f":"Results3!D24","v":0},{"$f":"Results3!E24","v":1},0,null,{"$f":"Results4!D24","v":0},1,0,null,0,{"$f":"Baseline!H24*Baseline!I24","v":62.386000000000003},0,null,{"$f":"GEOMEAN(U23:U25)","v":{"$error":"#NUM!"}},"GPU Shaders"]
[{"$f":"Results1!C25","v":"Large Model CPU"},{"$f":"Results1!A25","v":"Test0020"},{"$f":"Results1!D25","v":0},{"$f":"Results1!E25","v":1},0,null,{"$f":"Results2!D25","v":0},{"$f":"Results2!E25","v":1},0,null,{"$f":"Results3!D25","v":0},{"$f":"Results3!E25","v":1},0,null,{"$f":"Results4!D25","v":0},1,0,null,0,{"$f":"Baseline!H25*Baseline!I25","v":309.91500000000002},0,null,{"$f":"U26","v":0},"Large Model CPU"]
[{"$f":"Results1!C26","v":"Large Model GPU"},{"$f":"Results1!A26","v":"Test0030"},{"$f":"Results1!D26","v":0},{"$f":"Results1!E26","v":1},0,null,{"$f":"Results2!D26","v":0},{"$f":"Results2!E26","v":1},0,null,{"$f":"Results3!D26","v":0},{"$f":"Results3!E26","v":1},0,null,{"$f":"Results4!D26","v":0},1,0,null,0,{"$f":"Baseline!H26*Baseline!I26","v":667.21299999999997},0,null,{"$f":"U27","v":0},"Large Model GPU"]
[{"$f":"Results1!C27","v":"Modeling"},{"$f":"Results1!A27","v":"Test2000"},{"$f":"Results1!D27","v":0},{"$f":"Results1!E27","v":1},0,null,{"$f":"Results2!D27","v":0},{"$f":"Results2!E27","v":1},0,null,{"$f":"Results3!D27","v":0},{"$f":"Results3!E27","v":1},0,null,{"$f":"Results4!D27","v":0},1,0,null,0,{"$f":"Baseline!H27*Baseline!I27","v":7.24},0]
[{"$f":"Results1!C28","v":"Modeling"},{"$f":"Results1!A28","v":"Test0050"},{"$f":"Results1!D28","v":0},{"$f":"Results1!E28","v":1},0,null,{"$f":"Results2!D28","v":0},{"$f":"Results2!E28","v":1},0,null,{"$f":"Results3!D28","v":0},{"$f":"Results3!E28","v":1},0,null,{"$f":"Results4!D28","v":0},1,0,null,0,{"$f":"Baseline!H28*Baseline!I28","v":12.609},0]
[{"$f":"Results1!C29","v":"Modeling"},{"$f":"Results1!A29","v":"Test0070"},{"$f":"Results1!D29","v":0},{"$f":"Results1!E29","v":1},0,null,{"$f":"Results2!D29","v":0},{"$f":"Results2!E29","v":1},0,null,{"$f":"Results3!D29","v":0},{"$f":"Results3!E29","v":1},0,null,{"$f":"Results4!D29","v":0},1,0,null,0,{"$f":"Baseline!H29*Baseline!I29","v":8.5939999999999994},0]
[{"$f":"Results1!C30","v":"Modeling"},{"$f":"Results1!A30","v":"Test0080"},{"$f":"Results1!D30","v":0},{"$f":"Results1!E30","v":1},0,null,{"$f":"Results2!D30","v":0},{"$f":"Results2!E30","v":1},0,null,{"$f":"Results3!D30","v":0},{"$f":"Results3!E30","v":1},0,null,{"$f":"Results4!D30","v":0},1,0,null,0,{"$f":"Baseline!H30*Baseline!I30","v":16.207999999999998},0]
[{"$f":"Results1!C31","v":"Modeling"},{"$f":"Results1!A31","v":"Test0090"},{"$f":"Results1!D31","v":0},{"$f":"Results1!E31","v":1},0,null,{"$f":"Results2!D31","v":0},{"$f":"Results2!E31","v":1},0,null,{"$f":"Results3!D31","v":0},{"$f":"Results3!E31","v":1},0,null,{"$f":"Results4!D31","v":0},1,0,null,0,{"$f":"Baseline!H31*Baseline!I31","v":19.937000000000001},0]
[{"$f":"Results1!C32","v":"Modeling"},{"$f":"Results1!A32","v":"Test0100"},{"$f":"Results1!D32","v":0},{"$f":"Results1!E32","v":1},0,null,{"$f":"Results2!D32","v":0},{"$f":"Results2!E32","v":1},0,null,{"$f":"Results3!D32","v":0},{"$f":"Results3!E32","v":1},0,null,{"$f":"Results4!D32","v":0},1,0,null,0,{"$f":"Baseline!H32*Baseline!I32","v":15.803000000000001},0]
[{"$f":"Results1!C33","v":"Modeling"},{"$f":"Results1!A33","v":"Test0110"},{"$f":"Results1!D33","v":0},{"$f":"Results1!E33","v":1},0,null,{"$f":"Results2!D33","v":0},{"$f":"Results2!E33","v":1},0,null,{"$f":"Results3!D33","v":0},{"$f":"Results3!E33","v":1},0,null,{"$f":"Results4!D33","v":0},1,0,null,0,{"$f":"Baseline!H33*Baseline!I33","v":9.234},0]
[{"$f":"Results1!C34","v":"Modeling"},{"$f":"Results1!A34","v":"Test0041"},{"$f":"Results1!D34","v":0},{"$f":"Results1!E34","v":1},0,null,{"$f":"Results2!D34","v":0},{"$f":"Results2!E34","v":1},0,null,{"$f":"Results3!D34","v":0},{"$f":"Results3!E34","v":1},0,null,{"$f":"Results4!D34","v":0},1,0,null,0,{"$f":"Baseline!H34*Baseline!I34","v":35.088999999999999},0]
[{"$f":"Results1!C35","v":"Modeling"},{"$f":"Results1!A35","v":"Test0042"},{"$f":"Results1!D35","v":0},{"$f":"Results1!E35","v":1},0,null,{"$f":"Results2!D35","v":0},{"$f":"Results2!E35","v":1},0,null,{"$f":"Results3!D35","v":0},{"$f":"Results3!E35","v":1},0,null,{"$f":"Results4!D35","v":0},1,0,null,0,{"$f":"Baseline!H35*Baseline!I35","v":44.01},0]
[{"$f":"Results1!C36","v":"Modeling"},{"$f":"Results1!A36","v":"Test0043"},{"$f":"Results1!D36","v":0},{"$f":"Results1!E36","v":1},0,null,{"$f":"Results2!D36","v":0},{"$f":"Results2!E36","v":1},0,null,{"$f":"Results3!D36","v":0},{"$f":"Results3!E36","v":1},0,null,{"$f":"Results4!D36","v":0},1,0,null,0,{"$f":"Baseline!H36*Baseline!I36","v":46.289000000000001},0]
[{"$f":"Results1!C37","v":"Modeling"},{"$f":"Results1!A37","v":"Test0370"},{"$f":"Results1!D37","v":0},{"$f":"Results1!E37","v":1},0,null,{"$f":"Results2!D37","v":0},{"$f":"Results2!E37","v":1},0,null,{"$f":"Results3!D37","v":0},{"$f":"Results3!E37","v":1},0,null,{"$f":"Results4!D37","v":0},1,0,null,0,{"$f":"Baseline!H37*Baseline!I37","v":19.498000000000001},0]
[{"$f":"Results1!C38","v":"Modeling"},{"$f":"Results1!A38","v":"Test0171"},{"$f":"Results1!D38","v":0},{"$f":"Results1!E38","v":1},0,null,{"$f":"Results2!D38","v":0},{"$f":"Results2!E38","v":1},0,null,{"$f":"Results3!D38","v":0},{"$f":"Results3!E38","v":1},0,null,{"$f":"Results4!D38","v":0},1,0,null,0,{"$f":"Baseline!H38*Baseline!I38","v":53.862000000000002},0]
[{"$f":"Results1!C39","v":"Modeling"},{"$f":"Results1!A39","v":"Test0210"},{"$f":"Results1!D39","v":0},{"$f":"Results1!E39","v":1},0,null,{"$f":"Results2!D39","v":0},{"$f":"Results2!E39","v":1},0,null,{"$f":"Results3!D39","v":0},{"$f":"Results3!E39","v":1},0,null,{"$f":"Results4!D39","v":0},1,0,null,0,{"$f":"Baseline!H39*Baseline!I39","v":34.93},0]
[{"$f":"Results1!C40","v":"Modeling"},{"$f":"Results1!A40","v":"Test0121"},{"$f":"Results1!D40","v":0},{"$f":"Results1!E40","v":1},0,null,{"$f":"Results2!D40","v":0},{"$f":"Results2!E40","v":1},0,null,{"$f":"Results3!D40","v":0},{"$f":"Results3!E40","v":1},0,null,{"$f":"Results4!D40","v":0},1,0,null,0,{"$f":"Baseline!H40*Baseline!I40","v":16.010999999999999},0]
[{"$f":"Results1!C41","v":"Modeling"},{"$f":"Results1!A41","v":"Test0130"},{"$f":"Results1!D41","v":0},{"$f":"Results1!E41","v":1},0,null,{"$f":"Results2!D41","v":0},{"$f":"Results2!E41","v":1},0,null,{"$f":"Results3!D41","v":0},{"$f":"Results3!E41","v":1},0,null,{"$f":"Results4!D41","v":0},1,0,null,0,{"$f":"Baseline!H41*Baseline!I41","v":26.831},0,null,{"$f":"GEOMEAN(U28:U42)","v":{"$error":"#NUM!"}},"Modeling"]
[{"$f":"Results1!C42","v":"CPU Computing"},{"$f":"Results1!A42","v":"Test0125"},{"$f":"Results1!D42","v":0},{"$f":"Results1!E42","v":1},0,null,{"$f":"Results2!D42","v":0},{"$f":"Results2!E42","v":1},0,null,{"$f":"Results3!D42","v":0},{"$f":"Results3!E42","v":1},0,null,{"$f":"Results4!D42","v":0},1,0,null,0,{"$f":"Baseline!H42*Baseline!I42","v":25.727},0]
[{"$f":"Results1!C43","v":"CPU Computing"},{"$f":"Results1!A43","v":"Test1000"},{"$f":"Results1!D43","v":0},{"$f":"Results1!E43","v":1},0,null,{"$f":"Results2!D43","v":0},{"$f":"Results2!E43","v":1},0,null,{"$f":"Results3!D43","v":0},{"$f":"Results3!E43","v":1},0,null,{"$f":"Results4!D43","v":0},1,0,null,0,{"$f":"Baseline!H43*Baseline!I43","v":7.319},0]
[{"$f":"Results1!C44","v":"CPU Computing"},{"$f":"Results1!A44","v":"Test1500"},{"$f":"Results1!D44","v":0},{"$f":"Results1!E44","v":1},0,null,{"$f":"Results2!D44","v":0},{"$f":"Results2!E44","v":1},0,null,{"$f":"Results3!D44","v":0},{"$f":"Results3!E44","v":1},0,null,{"$f":"Results4!D44","v":0},1,0,null,0,{"$f":"Baseline!H44*Baseline!I44","v":11.353999999999999},0,null,{"$f":"GEOMEAN(U43:U45)","v":{"$error":"#NUM!"}},"CPU Computing"]
[{"$f":"Results1!C45","v":"GPU Rendering"},{"$f":"Results1!A45","v":"Test1070"},{"$f":"Results1!D45","v":0},{"$f":"Results1!E45","v":1},0,null,{"$f":"Results2!D45","v":0},{"$f":"Results2!E45","v":1},0,null,{"$f":"Results3!D45","v":0},{"$f":"Results3!E45","v":1},0,null,{"$f":"Results4!D45","v":0},1,0,null,0,{"$f":"Baseline!H45*Baseline!I45","v":4.76},0]
[{"$f":"Results1!C46","v":"GPU Rendering"},{"$f":"Results1!A46","v":"Test1075"},{"$f":"Results1!D46","v":0},{"$f":"Results1!E46","v":1},0,null,{"$f":"Results2!D46","v":0},{"$f":"Results2!E46","v":1},0,null,{"$f":"Results3!D46","v":0},{"$f":"Results3!E46","v":1},0,null,{"$f":"Results4!D46","v":0},1,0,null,0,{"$f":"Baseline!H46*Baseline!I46","v":45.328000000000003},0]
[{"$f":"Results1!C47","v":"GPU Rendering"},{"$f":"Results1!A47","v":"Test1080"},{"$f":"Results1!D47","v":0},{"$f":"Results1!E47","v":1},0,null,{"$f":"Results2!D47","v":0},{"$f":"Results2!E47","v":1},0,null,{"$f":"Results3!D47","v":0},{"$f":"Results3!E47","v":1},0,null,{"$f":"Results4!D47","v":0},1,0,null,0,{"$f":"Baseline!H47*Baseline!I47","v":125.605},0]
[{"$f":"Results1!C48","v":"GPU Rendering"},{"$f":"Results1!A48","v":"Test1081"},{"$f":"Results1!D48","v":0},{"$f":"Results1!E48","v":1},0,null,{"$f":"Results2!D48","v":0},{"$f":"Results2!E48","v":1},0,null,{"$f":"Results3!D48","v":0},{"$f":"Results3!E48","v":1},0,null,{"$f":"Results4!D48","v":0},1,0,null,0,{"$f":"Baseline!H48*Baseline!I48","v":52.088000000000001},0]
[{"$f":"Results1!C49","v":"GPU Rendering"},{"$f":"Results1!A49","v":"Test1090"},{"$f":"Results1!D49","v":0},{"$f":"Results1!E49","v":1},0,null,{"$f":"Results2!D49","v":0},{"$f":"Results2!E49","v":1},0,null,{"$f":"Results3!D49","v":0},{"$f":"Results3!E49","v":1},0,null,{"$f":"Results4!D49","v":0},1,0,null,0,{"$f":"Baseline!H49*Baseline!I49","v":46.826000000000001},0]
[{"$f":"Results1!C50","v":"GPU Rendering"},{"$f":"Results1!A50","v":"Test1100"},{"$f":"Results1!D50","v":0},{"$f":"Results1!E50","v":1},0,null,{"$f":"Results2!D50","v":0},{"$f":"Results2!E50","v":1},0,null,{"$f":"Results3!D50","v":0},{"$f":"Results3!E50","v":1},0,null,{"$f":"Results4!D50","v":0},1,0,null,0,{"$f":"Baseline!H50*Baseline!I50","v":18.478000000000002},0]
[{"$f":"Results1!C51","v":"GPU Rendering"},{"$f":"Results1!A51","v":"Test1105"},{"$f":"Results1!D51","v":0},{"$f":"Results1!E51","v":1},0,null,{"$f":"Results2!D51","v":0},{"$f":"Results2!E51","v":1},0,null,{"$f":"Results3!D51","v":0},{"$f":"Results3!E51","v":1},0,null,{"$f":"Results4!D51","v":0},1,0,null,0,{"$f":"Baseline!H51*Baseline!I51","v":156.75},0]
[{"$f":"Results1!C52","v":"GPU Rendering"},{"$f":"Results1!A52","v":"Test1110"},{"$f":"Results1!D52","v":0},{"$f":"Results1!E52","v":1},0,null,{"$f":"Results2!D52","v":0},{"$f":"Results2!E52","v":1},0,null,{"$f":"Results3!D52","v":0},{"$f":"Results3!E52","v":1},0,null,{"$f":"Results4!D52","v":0},1,0,null,0,{"$f":"Baseline!H52*Baseline!I52","v":29.870999999999999},0]
[{"$f":"Results1!C53","v":"GPU Rendering"},{"$f":"Results1!A53","v":"Test1120"},{"$f":"Results1!D53","v":0},{"$f":"Results1!E53","v":1},0,null,{"$f":"Results2!D53","v":0},{"$f":"Results2!E53","v":1},0,null,{"$f":"Results3!D53","v":0},{"$f":"Results3!E53","v":1},0,null,{"$f":"Results4!D53","v":0},1,0,null,0,{"$f":"Baseline!H53*Baseline!I53","v":155.71199999999999},0,null,{"$f":"GEOMEAN(U46:U55)","v":{"$error":"#NUM!"}},"GPU Rendering"]
[{"$f":"Results1!C54","v":"GPU Rendering"},{"$f":"Results1!A54","v":"Test1520"},{"$f":"Results1!D54","v":0},{"$f":"Results1!E54","v":1},0,null,{"$f":"Results2!D54","v":0},{"$f":"Results2!E54","v":1},0,null,{"$f":"Results3!D54","v":0},{"$f":"Results3!E54","v":1},0,null,{"$f":"Results4!D54","v":0},1,0,null,0,{"$f":"Baseline!H54*Baseline!I54","v":75.301000000000002},0]
[{"$f":"Results1!C55","v":"CPU Rendering"},{"$f":"Results1!A55","v":"Test1085"},{"$f":"Results1!D55","v":0},{"$f":"Results1!E55","v":1},0,null,{"$f":"Results2!D55","v":0},{"$f":"Results2!E55","v":1},0,null,{"$f":"Results3!D55","v":0},{"$f":"Results3!E55","v":1},0,null,{"$f":"Results4!D55","v":0},1,0,null,0,{"$f":"Baseline!H55*Baseline!I55","v":116.107},0]
[{"$f":"Results1!C56","v":"CPU Rendering"},{"$f":"Results1!A56","v":"Test1095"},{"$f":"Results1!D56","v":0},{"$f":"Results1!E56","v":1},0,null,{"$f":"Results2!D56","v":0},{"$f":"Results2!E56","v":1},0,null,{"$f":"Results3!D56","v":0},{"$f":"Results3!E56","v":1},0,null,{"$f":"Results4!D56","v":0},1,0,null,0,{"$f":"Baseline!H56*Baseline!I56","v":78.486000000000004},0]
[{"$f":"Results1!C57","v":"CPU Rendering"},{"$f":"Results1!A57","v":"Test1115"},{"$f":"Results1!D57","v":0},{"$f":"Results1!E57","v":1},0,null,{"$f":"Results2!D57","v":0},{"$f":"Results2!E57","v":1},0,null,{"$f":"Results3!D57","v":0},{"$f":"Results3!E57","v":1},0,null,{"$f":"Results4!D57","v":0},1,0,null,0,{"$f":"Baseline!H57*Baseline!I57","v":30.95},0]
[{"$f":"Results1!C58","v":"CPU Rendering"},{"$f":"Results1!A58","v":"Test1040"},{"$f":"Results1!D58","v":0},{"$f":"Results1!E58","v":1},0,null,{"$f":"Results2!D58","v":0},{"$f":"Results2!E58","v":1},0,null,{"$f":"Results3!D58","v":0},{"$f":"Results3!E58","v":1},0,null,{"$f":"Results4!D58","v":0},1,0,null,0,{"$f":"Baseline!H58*Baseline!I58","v":15.193},0]
[{"$f":"Results1!C59","v":"CPU Rendering"},{"$f":"Results1!A59","v":"Test1060"},{"$f":"Results1!D59","v":0},{"$f":"Results1!E59","v":1},0,null,{"$f":"Results2!D59","v":0},{"$f":"Results2!E59","v":1},0,null,{"$f":"Results3!D59","v":0},{"$f":"Results3!E59","v":1},0,null,{"$f":"Results4!D59","v":0},1,0,null,0,{"$f":"Baseline!H59*Baseline!I59","v":13.894},0,null,{"$f":"GEOMEAN(U56:U60)","v":{"$error":"#NUM!"}},"CPU Rendering"]